Package: CluMSID Version: 1.23.0 Command: /Library/Frameworks/R.framework/Resources/bin/R CMD INSTALL CluMSID StartedAt: 2025-02-19 15:29:23 -0500 (Wed, 19 Feb 2025) EndedAt: 2025-02-19 15:30:17 -0500 (Wed, 19 Feb 2025) EllapsedTime: 54.9 seconds RetCode: 0 Status: OK