Package: CluMSID Version: 1.23.0 Command: /home/biocbuild/R/R/bin/R CMD INSTALL CluMSID StartedAt: 2025-01-29 20:12:25 -0000 (Wed, 29 Jan 2025) EndedAt: 2025-01-29 20:13:20 -0000 (Wed, 29 Jan 2025) EllapsedTime: 55.3 seconds RetCode: 0 Status: OK