Package: CluMSID Version: 1.23.0 Command: /home/biocbuild/R/R/bin/R CMD check --install=check:CluMSID.install-out.txt --library=/home/biocbuild/R/R/site-library --no-vignettes --timings CluMSID_1.23.0.tar.gz StartedAt: 2025-01-28 09:14:54 -0000 (Tue, 28 Jan 2025) EndedAt: 2025-01-28 09:22:06 -0000 (Tue, 28 Jan 2025) EllapsedTime: 432.5 seconds RetCode: 0 Status: WARNINGS CheckDir: CluMSID.Rcheck Warnings: 1