Package: CluMSID Version: 1.23.0 Command: /home/biocbuild/R/R/bin/R CMD build --keep-empty-dirs --no-resave-data CluMSID StartedAt: 2025-01-28 21:56:32 -0000 (Tue, 28 Jan 2025) EndedAt: 2025-01-28 22:05:23 -0000 (Tue, 28 Jan 2025) EllapsedTime: 531.2 seconds RetCode: 0 Status: OK PackageFile: CluMSID_1.23.0.tar.gz PackageFileSize: 2.61 MiB