Package: Clomial Version: 1.43.0 Command: rm -rf Clomial.buildbin-libdir && mkdir Clomial.buildbin-libdir && E:\biocbuild\bbs-3.21-bioc\R\bin\R.exe CMD INSTALL --build --library=Clomial.buildbin-libdir Clomial_1.43.0.tar.gz StartedAt: 2025-02-21 07:48:28 -0500 (Fri, 21 Feb 2025) EndedAt: 2025-02-21 07:48:37 -0500 (Fri, 21 Feb 2025) EllapsedTime: 8.6 seconds RetCode: 0 Status: OK PackageFile: Clomial_1.43.0.zip PackageFileSize: 1.42 MiB