Package: Clomial Version: 1.43.0 Command: /home/biocbuild/bbs-3.21-bioc/R/bin/R CMD check --install=check:Clomial.install-out.txt --library=/home/biocbuild/bbs-3.21-bioc/R/site-library --timings Clomial_1.43.0.tar.gz StartedAt: 2025-02-20 20:50:41 -0500 (Thu, 20 Feb 2025) EndedAt: 2025-02-20 20:52:38 -0500 (Thu, 20 Feb 2025) EllapsedTime: 116.1 seconds RetCode: 0 Status: OK CheckDir: Clomial.Rcheck Warnings: 0