Package: Clomial Version: 1.43.0 Command: /Library/Frameworks/R.framework/Resources/bin/R CMD build --keep-empty-dirs --no-resave-data Clomial StartedAt: 2025-02-20 16:14:57 -0500 (Thu, 20 Feb 2025) EndedAt: 2025-02-20 16:15:17 -0500 (Thu, 20 Feb 2025) EllapsedTime: 20.5 seconds RetCode: 0 Status: OK PackageFile: Clomial_1.43.0.tar.gz PackageFileSize: 1.46 MiB