Package: Clomial Version: 1.43.0 Command: /Library/Frameworks/R.framework/Resources/bin/R CMD INSTALL Clomial StartedAt: 2025-02-20 15:02:20 -0500 (Thu, 20 Feb 2025) EndedAt: 2025-02-20 15:02:28 -0500 (Thu, 20 Feb 2025) EllapsedTime: 8.1 seconds RetCode: 0 Status: OK