Package: CleanUpRNAseq Version: 1.1.1 Command: E:\biocbuild\bbs-3.21-bioc\R\bin\R.exe CMD INSTALL CleanUpRNAseq StartedAt: 2025-02-19 16:39:46 -0500 (Wed, 19 Feb 2025) EndedAt: 2025-02-19 16:40:43 -0500 (Wed, 19 Feb 2025) EllapsedTime: 56.7 seconds RetCode: 0 Status: OK