Package: CleanUpRNAseq Version: 1.1.1 Command: /home/biocbuild/bbs-3.21-bioc/R/bin/R CMD check --install=check:CleanUpRNAseq.install-out.txt --library=/home/biocbuild/bbs-3.21-bioc/R/site-library --timings CleanUpRNAseq_1.1.1.tar.gz StartedAt: 2025-02-19 20:53:09 -0500 (Wed, 19 Feb 2025) EndedAt: 2025-02-19 20:59:11 -0500 (Wed, 19 Feb 2025) EllapsedTime: 362.5 seconds RetCode: 0 Status: OK CheckDir: CleanUpRNAseq.Rcheck Warnings: 0