Package: CleanUpRNAseq Version: 1.1.1 Maintainer: Haibo Liu MaintainerEmail: haibo.liu at umassmed.edu git_url: https://git.bioconductor.org/packages/CleanUpRNAseq git_branch: devel git_last_commit: dac4dc8 git_last_commit_date: 2024-11-19 11:28:36 -0500 (Tue, 19 Nov 2024)