Package: ClassifyR Version: 3.11.7 Command: /home/biocbuild/bbs-3.21-bioc/R/bin/R CMD INSTALL ClassifyR StartedAt: 2025-02-20 15:37:56 -0500 (Thu, 20 Feb 2025) EndedAt: 2025-02-20 15:38:29 -0500 (Thu, 20 Feb 2025) EllapsedTime: 33.3 seconds RetCode: 0 Status: OK