Package: ClassifyR Version: 3.11.7 Command: /home/biocbuild/bbs-3.21-bioc/R/bin/R CMD build --keep-empty-dirs --no-resave-data ClassifyR StartedAt: 2025-02-20 16:55:34 -0500 (Thu, 20 Feb 2025) EndedAt: 2025-02-20 16:57:12 -0500 (Thu, 20 Feb 2025) EllapsedTime: 98.1 seconds RetCode: 0 Status: OK PackageFile: ClassifyR_3.11.7.tar.gz PackageFileSize: 2.413 MiB