Package: ClassifyR Version: 3.11.7 Command: /Library/Frameworks/R.framework/Resources/bin/R CMD INSTALL ClassifyR StartedAt: 2025-02-19 15:43:04 -0500 (Wed, 19 Feb 2025) EndedAt: 2025-02-19 15:43:50 -0500 (Wed, 19 Feb 2025) EllapsedTime: 46.3 seconds RetCode: 0 Status: OK