Package: ClassifyR Version: 3.11.7 Command: /Library/Frameworks/R.framework/Resources/bin/R CMD check --install=check:ClassifyR.install-out.txt --library=/Library/Frameworks/R.framework/Resources/library --no-vignettes --timings ClassifyR_3.11.7.tar.gz StartedAt: 2025-02-19 19:30:40 -0500 (Wed, 19 Feb 2025) EndedAt: 2025-02-19 19:36:06 -0500 (Wed, 19 Feb 2025) EllapsedTime: 326.6 seconds RetCode: 0 Status: WARNINGS CheckDir: ClassifyR.Rcheck Warnings: 2