Package: ClassifyR Version: 3.12.5 Command: /home/biocbuild/R/R/bin/R CMD INSTALL ClassifyR StartedAt: 2025-10-02 20:42:21 -0000 (Thu, 02 Oct 2025) EndedAt: 2025-10-02 20:43:10 -0000 (Thu, 02 Oct 2025) EllapsedTime: 49.3 seconds RetCode: 0 Status: OK