Package: ClassifyR Version: 3.12.5 Command: /home/biocbuild/R/R/bin/R CMD build --keep-empty-dirs --no-resave-data ClassifyR StartedAt: 2025-10-02 23:41:46 -0000 (Thu, 02 Oct 2025) EndedAt: 2025-10-02 23:44:34 -0000 (Thu, 02 Oct 2025) EllapsedTime: 168.1 seconds RetCode: 0 Status: OK PackageFile: ClassifyR_3.12.5.tar.gz PackageFileSize: 2.311 MiB