Package: ClassifyR Version: 3.11.7 Command: /Library/Frameworks/R.framework/Resources/bin/R CMD INSTALL ClassifyR StartedAt: 2025-02-19 15:28:34 -0500 (Wed, 19 Feb 2025) EndedAt: 2025-02-19 15:28:48 -0500 (Wed, 19 Feb 2025) EllapsedTime: 13.4 seconds RetCode: 0 Status: OK