Package: ClassifyR Version: 3.11.7 Command: /Library/Frameworks/R.framework/Resources/bin/R CMD build --keep-empty-dirs --no-resave-data ClassifyR StartedAt: 2025-02-19 15:55:05 -0500 (Wed, 19 Feb 2025) EndedAt: 2025-02-19 15:55:43 -0500 (Wed, 19 Feb 2025) EllapsedTime: 38.4 seconds RetCode: 0 Status: OK PackageFile: ClassifyR_3.11.7.tar.gz PackageFileSize: 2.299 MiB