Package: ClassifyR Version: 3.12.5 Command: /Library/Frameworks/R.framework/Resources/bin/R CMD INSTALL ClassifyR StartedAt: 2025-10-13 16:17:51 -0400 (Mon, 13 Oct 2025) EndedAt: 2025-10-13 16:18:31 -0400 (Mon, 13 Oct 2025) EllapsedTime: 40.1 seconds RetCode: 0 Status: OK