Package: ClassifyR Version: 3.12.5 Command: /Library/Frameworks/R.framework/Resources/bin/R CMD build --keep-empty-dirs --no-resave-data ClassifyR StartedAt: 2025-10-13 21:20:54 -0400 (Mon, 13 Oct 2025) EndedAt: 2025-10-13 21:23:12 -0400 (Mon, 13 Oct 2025) EllapsedTime: 137.6 seconds RetCode: 0 Status: OK PackageFile: ClassifyR_3.12.5.tar.gz PackageFileSize: 2.304 MiB