Package: CiteFuse Version: 1.19.0 Command: /Library/Frameworks/R.framework/Resources/bin/R CMD check --install=check:CiteFuse.install-out.txt --library=/Library/Frameworks/R.framework/Resources/library --no-vignettes --timings CiteFuse_1.19.0.tar.gz StartedAt: 2025-02-19 19:30:28 -0500 (Wed, 19 Feb 2025) EndedAt: 2025-02-19 19:35:24 -0500 (Wed, 19 Feb 2025) EllapsedTime: 295.6 seconds RetCode: 0 Status: OK CheckDir: CiteFuse.Rcheck Warnings: 0