Package: CiteFuse Version: 1.19.0 Command: /Library/Frameworks/R.framework/Resources/bin/R CMD build --keep-empty-dirs --no-resave-data CiteFuse StartedAt: 2025-02-19 16:14:40 -0500 (Wed, 19 Feb 2025) EndedAt: 2025-02-19 16:17:29 -0500 (Wed, 19 Feb 2025) EllapsedTime: 169.4 seconds RetCode: 0 Status: OK PackageFile: CiteFuse_1.19.0.tar.gz PackageFileSize: 3.396 MiB