Package: CircSeqAlignTk Version: 1.9.0 Command: /home/biocbuild/bbs-3.21-bioc/R/bin/R CMD check --install=check:CircSeqAlignTk.install-out.txt --library=/home/biocbuild/bbs-3.21-bioc/R/site-library --timings CircSeqAlignTk_1.9.0.tar.gz StartedAt: 2025-02-19 20:51:42 -0500 (Wed, 19 Feb 2025) EndedAt: 2025-02-19 20:59:13 -0500 (Wed, 19 Feb 2025) EllapsedTime: 450.6 seconds RetCode: 0 Status: OK CheckDir: CircSeqAlignTk.Rcheck Warnings: 0