Package: CircSeqAlignTk Version: 1.9.0 Command: /Library/Frameworks/R.framework/Resources/bin/R CMD check --install=check:CircSeqAlignTk.install-out.txt --library=/Library/Frameworks/R.framework/Resources/library --no-vignettes --timings CircSeqAlignTk_1.9.0.tar.gz StartedAt: 2025-02-20 19:29:59 -0500 (Thu, 20 Feb 2025) EndedAt: 2025-02-20 19:36:27 -0500 (Thu, 20 Feb 2025) EllapsedTime: 387.5 seconds RetCode: 0 Status: OK CheckDir: CircSeqAlignTk.Rcheck Warnings: 0