Package: ChromSCape Version: 1.17.0 Command: /home/biocbuild/bbs-3.21-bioc/R/bin/R CMD check --install=check:ChromSCape.install-out.txt --library=/home/biocbuild/bbs-3.21-bioc/R/site-library --timings ChromSCape_1.17.0.tar.gz StartedAt: 2025-02-19 20:50:18 -0500 (Wed, 19 Feb 2025) EndedAt: 2025-02-19 21:02:31 -0500 (Wed, 19 Feb 2025) EllapsedTime: 733.1 seconds RetCode: 0 Status: WARNINGS CheckDir: ChromSCape.Rcheck Warnings: 3