Package: ChromSCape Version: 1.17.0 Command: rm -rf ChromSCape.buildbin-libdir && mkdir ChromSCape.buildbin-libdir && /Users/biocbuild/BBS/utils/build-universal.sh ChromSCape_1.17.0.tar.gz /Library/Frameworks/R.framework/Resources/bin/R ChromSCape.buildbin-libdir StartedAt: 2025-02-20 00:25:07 -0500 (Thu, 20 Feb 2025) EndedAt: 2025-02-20 00:26:21 -0500 (Thu, 20 Feb 2025) EllapsedTime: 74.1 seconds RetCode: 0 Status: OK PackageFile: ChromSCape_1.17.0.tgz PackageFileSize: 5.796 MiB