Package: ChromSCape Version: 1.17.0 Command: /Library/Frameworks/R.framework/Resources/bin/R CMD INSTALL ChromSCape StartedAt: 2025-02-19 15:29:49 -0500 (Wed, 19 Feb 2025) EndedAt: 2025-02-19 15:30:09 -0500 (Wed, 19 Feb 2025) EllapsedTime: 19.7 seconds RetCode: 0 Status: OK