Package: ChromHeatMap Version: 1.61.0 Command: chmod a+r ChromHeatMap -R && E:\biocbuild\bbs-3.21-bioc\R\bin\R.exe CMD build --keep-empty-dirs --no-resave-data ChromHeatMap StartedAt: 2025-02-17 17:46:19 -0500 (Mon, 17 Feb 2025) EndedAt: 2025-02-17 17:48:15 -0500 (Mon, 17 Feb 2025) EllapsedTime: 115.8 seconds RetCode: 0 Status: OK PackageFile: ChromHeatMap_1.61.0.tar.gz PackageFileSize: 217.1 KiB