Package: ChromHeatMap Version: 1.61.0 Command: /Library/Frameworks/R.framework/Resources/bin/R CMD INSTALL ChromHeatMap StartedAt: 2025-02-17 15:16:54 -0500 (Mon, 17 Feb 2025) EndedAt: 2025-02-17 15:17:41 -0500 (Mon, 17 Feb 2025) EllapsedTime: 46.4 seconds RetCode: 0 Status: OK