Package: ChromHeatMap Version: 1.61.0 Command: /Library/Frameworks/R.framework/Resources/bin/R CMD check --install=check:ChromHeatMap.install-out.txt --library=/Library/Frameworks/R.framework/Resources/library --no-vignettes --timings ChromHeatMap_1.61.0.tar.gz StartedAt: 2025-02-17 19:26:24 -0500 (Mon, 17 Feb 2025) EndedAt: 2025-02-17 19:30:37 -0500 (Mon, 17 Feb 2025) EllapsedTime: 253.6 seconds RetCode: 0 Status: OK CheckDir: ChromHeatMap.Rcheck Warnings: 0