Package: ChromHeatMap Version: 1.61.0 Command: /Library/Frameworks/R.framework/Resources/bin/R CMD build --keep-empty-dirs --no-resave-data ChromHeatMap StartedAt: 2025-02-17 16:13:05 -0500 (Mon, 17 Feb 2025) EndedAt: 2025-02-17 16:14:06 -0500 (Mon, 17 Feb 2025) EllapsedTime: 60.7 seconds RetCode: 0 Status: OK PackageFile: ChromHeatMap_1.61.0.tar.gz PackageFileSize: 317.3 KiB