Package: ChromHeatMap Version: 1.61.0 Command: rm -rf ChromHeatMap.buildbin-libdir && mkdir ChromHeatMap.buildbin-libdir && /Users/biocbuild/BBS/utils/build-universal.sh ChromHeatMap_1.61.0.tar.gz /Library/Frameworks/R.framework/Resources/bin/R ChromHeatMap.buildbin-libdir StartedAt: 2025-02-18 00:18:05 -0500 (Tue, 18 Feb 2025) EndedAt: 2025-02-18 00:18:55 -0500 (Tue, 18 Feb 2025) EllapsedTime: 49.6 seconds RetCode: 0 Status: OK PackageFile: ChromHeatMap_1.61.0.tgz PackageFileSize: 674.2 KiB