Package: ChromHeatMap Version: 1.61.0 Command: /Library/Frameworks/R.framework/Resources/bin/R CMD build --keep-empty-dirs --no-resave-data ChromHeatMap StartedAt: 2025-02-17 15:53:39 -0500 (Mon, 17 Feb 2025) EndedAt: 2025-02-17 15:54:00 -0500 (Mon, 17 Feb 2025) EllapsedTime: 21.2 seconds RetCode: 0 Status: OK PackageFile: ChromHeatMap_1.61.0.tar.gz PackageFileSize: 317.6 KiB