Package: Chicago Version: 1.35.0 Command: E:\biocbuild\bbs-3.21-bioc\R\bin\R.exe CMD INSTALL Chicago StartedAt: 2025-02-19 16:15:45 -0500 (Wed, 19 Feb 2025) EndedAt: 2025-02-19 16:16:15 -0500 (Wed, 19 Feb 2025) EllapsedTime: 29.7 seconds RetCode: 0 Status: OK