Package: Chicago Version: 1.35.0 Command: rm -rf Chicago.buildbin-libdir && mkdir Chicago.buildbin-libdir && /Users/biocbuild/BBS/utils/build-universal.sh Chicago_1.35.0.tar.gz /Library/Frameworks/R.framework/Resources/bin/R Chicago.buildbin-libdir StartedAt: 2025-02-21 00:23:32 -0500 (Fri, 21 Feb 2025) EndedAt: 2025-02-21 00:23:44 -0500 (Fri, 21 Feb 2025) EllapsedTime: 12.8 seconds RetCode: 0 Status: OK PackageFile: Chicago_1.35.0.tgz PackageFileSize: 1.462 MiB