Package: Chicago Version: 1.35.0 Command: /Library/Frameworks/R.framework/Resources/bin/R CMD check --install=check:Chicago.install-out.txt --library=/Library/Frameworks/R.framework/Resources/library --no-vignettes --timings Chicago_1.35.0.tar.gz StartedAt: 2025-02-20 18:29:20 -0500 (Thu, 20 Feb 2025) EndedAt: 2025-02-20 18:30:02 -0500 (Thu, 20 Feb 2025) EllapsedTime: 41.5 seconds RetCode: 0 Status: OK CheckDir: Chicago.Rcheck Warnings: 0