Package: ChemmineOB Version: 1.45.0 Command: E:\biocbuild\bbs-3.21-bioc\R\bin\R.exe CMD check --no-multiarch --install=check:ChemmineOB.install-out.txt --library=E:\biocbuild\bbs-3.21-bioc\R\library --no-vignettes --timings ChemmineOB_1.45.0.tar.gz StartedAt: 2025-02-19 23:33:39 -0500 (Wed, 19 Feb 2025) EndedAt: 2025-02-19 23:36:35 -0500 (Wed, 19 Feb 2025) EllapsedTime: 176.4 seconds RetCode: 0 Status: WARNINGS CheckDir: ChemmineOB.Rcheck Warnings: 3