Package: ChemmineOB Version: 1.45.0 Command: /Library/Frameworks/R.framework/Resources/bin/R CMD check --install=check:ChemmineOB.install-out.txt --library=/Library/Frameworks/R.framework/Resources/library --no-vignettes --timings ChemmineOB_1.45.0.tar.gz StartedAt: 2025-02-19 19:26:35 -0500 (Wed, 19 Feb 2025) EndedAt: 2025-02-19 19:28:26 -0500 (Wed, 19 Feb 2025) EllapsedTime: 111.2 seconds RetCode: 0 Status: WARNINGS CheckDir: ChemmineOB.Rcheck Warnings: 2