Package: ChemmineOB Version: 1.45.0 Command: /home/biocbuild/R/R/bin/R CMD INSTALL ChemmineOB StartedAt: 2025-01-29 19:31:38 -0000 (Wed, 29 Jan 2025) EndedAt: 2025-01-29 19:34:15 -0000 (Wed, 29 Jan 2025) EllapsedTime: 156.9 seconds RetCode: 1 Status: ERROR