Package: ChIPsim Version: 1.61.0 Command: E:\biocbuild\bbs-3.21-bioc\R\bin\R.exe CMD INSTALL ChIPsim StartedAt: 2025-02-19 15:55:25 -0500 (Wed, 19 Feb 2025) EndedAt: 2025-02-19 15:56:12 -0500 (Wed, 19 Feb 2025) EllapsedTime: 47.3 seconds RetCode: 0 Status: OK