Package: ChIPsim Version: 1.61.0 Command: /home/biocbuild/bbs-3.21-bioc/R/bin/R CMD INSTALL ChIPsim StartedAt: 2025-02-17 15:49:21 -0500 (Mon, 17 Feb 2025) EndedAt: 2025-02-17 15:49:50 -0500 (Mon, 17 Feb 2025) EllapsedTime: 28.3 seconds RetCode: 0 Status: OK