Package: ChIPsim Version: 1.61.0 Command: /home/biocbuild/R/R/bin/R CMD check --install=check:ChIPsim.install-out.txt --library=/home/biocbuild/R/R/site-library --no-vignettes --timings ChIPsim_1.61.0.tar.gz StartedAt: 2025-01-28 09:08:49 -0000 (Tue, 28 Jan 2025) EndedAt: 2025-01-28 09:13:10 -0000 (Tue, 28 Jan 2025) EllapsedTime: 260.2 seconds RetCode: 0 Status: OK CheckDir: ChIPsim.Rcheck Warnings: 0