Package: ChIPseeker Version: 1.43.0 Command: /home/biocbuild/bbs-3.21-bioc/R/bin/R CMD INSTALL ChIPseeker StartedAt: 2025-02-20 16:12:21 -0500 (Thu, 20 Feb 2025) EndedAt: 2025-02-20 16:13:08 -0500 (Thu, 20 Feb 2025) EllapsedTime: 46.5 seconds RetCode: 0 Status: OK