Package: ChIPseeker Version: 1.43.0 Command: /home/biocbuild/bbs-3.21-bioc/R/bin/R CMD build --keep-empty-dirs --no-resave-data ChIPseeker StartedAt: 2025-02-20 16:54:15 -0500 (Thu, 20 Feb 2025) EndedAt: 2025-02-20 17:01:49 -0500 (Thu, 20 Feb 2025) EllapsedTime: 454.5 seconds RetCode: 0 Status: OK PackageFile: ChIPseeker_1.43.0.tar.gz PackageFileSize: 7.237 MiB