Package: ChIPseeker Version: 1.43.0 Command: /Library/Frameworks/R.framework/Resources/bin/R CMD check --install=check:ChIPseeker.install-out.txt --library=/Library/Frameworks/R.framework/Resources/library --no-vignettes --timings ChIPseeker_1.43.0.tar.gz StartedAt: 2025-02-20 19:28:31 -0500 (Thu, 20 Feb 2025) EndedAt: 2025-02-20 19:37:05 -0500 (Thu, 20 Feb 2025) EllapsedTime: 514.6 seconds RetCode: 0 Status: OK CheckDir: ChIPseeker.Rcheck Warnings: 0