Package: ChIPseeker Version: 1.43.0 Command: /Library/Frameworks/R.framework/Resources/bin/R CMD build --keep-empty-dirs --no-resave-data ChIPseeker StartedAt: 2025-02-20 16:12:32 -0500 (Thu, 20 Feb 2025) EndedAt: 2025-02-20 16:22:25 -0500 (Thu, 20 Feb 2025) EllapsedTime: 593.0 seconds RetCode: 0 Status: OK PackageFile: ChIPseeker_1.43.0.tar.gz PackageFileSize: 7.408 MiB