Package: ChIPseeker Version: 1.43.0 Command: /Library/Frameworks/R.framework/Resources/bin/R CMD build --keep-empty-dirs --no-resave-data ChIPseeker StartedAt: 2025-02-20 15:53:10 -0500 (Thu, 20 Feb 2025) EndedAt: 2025-02-20 15:56:25 -0500 (Thu, 20 Feb 2025) EllapsedTime: 195.1 seconds RetCode: 0 Status: OK PackageFile: ChIPseeker_1.43.0.tar.gz PackageFileSize: 7.41 MiB