Package: ChIPpeakAnno Version: 3.41.1 Command: /home/biocbuild/bbs-3.21-bioc/R/bin/R CMD INSTALL ChIPpeakAnno StartedAt: 2025-02-20 16:02:43 -0500 (Thu, 20 Feb 2025) EndedAt: 2025-02-20 16:04:29 -0500 (Thu, 20 Feb 2025) EllapsedTime: 105.9 seconds RetCode: 0 Status: OK