Package: ChIPpeakAnno Version: 3.41.1 Command: /Library/Frameworks/R.framework/Resources/bin/R CMD INSTALL ChIPpeakAnno StartedAt: 2025-02-19 15:22:29 -0500 (Wed, 19 Feb 2025) EndedAt: 2025-02-19 15:23:15 -0500 (Wed, 19 Feb 2025) EllapsedTime: 46.3 seconds RetCode: 0 Status: OK